BEGIN:VCALENDAR
VERSION:2.0
CALSCALE:GREGORIAN
PRODID:-//Diputació de Barcelona//DibaCMS//EN
BEGIN:VEVENT
UID:6635
DTSTAMP:20260423T022857
DTSTART:20170529T170000
DTEND:20170529T190000
SUMMARY:Curs de fotos i vídeos amb el mòbil
LOCATION:
METHOD:PUBLISH
X-WR-CALNAME:aiguafreda@aiguafreda.cat
X-WR-TIMEZONE:Europe/Madrid
DESCRIPTION:
URI:https://www.aiguafreda.cat/actualitat/agenda/6635-curs-de-fotos-i-videos-amb-el-mobil.html
CLASS:PUBLIC
END:VEVENT
END:VCALENDAR
