BEGIN:VCALENDAR
VERSION:2.0
CALSCALE:GREGORIAN
PRODID:-//Diputació de Barcelona//DibaCMS//EN
BEGIN:VEVENT
UID:6634
DTSTAMP:20260423T075556
DTSTART:20170528T120000
DTEND:20170528T140000
SUMMARY:Sardanes amb la Cobla Genisenca de Taradell
LOCATION:
METHOD:PUBLISH
X-WR-CALNAME:aiguafreda@aiguafreda.cat
X-WR-TIMEZONE:Europe/Madrid
DESCRIPTION:
URI:https://www.aiguafreda.cat/actualitat/agenda/sardanes-amb-la-cobla-genisenca-de-taradell.html
CLASS:PUBLIC
END:VEVENT
END:VCALENDAR
