BEGIN:VCALENDAR
VERSION:2.0
CALSCALE:GREGORIAN
PRODID:-//Diputació de Barcelona//DibaCMS//EN
BEGIN:VEVENT
UID:6632
DTSTAMP:20260423T050537
DTSTART:20170524T000000
DTEND:20170524T000000
SUMMARY:Inauguració del nou circuit d’orientació d’Aiguafreda coincidint amb el World Orientering Day
LOCATION:
METHOD:PUBLISH
X-WR-CALNAME:aiguafreda@aiguafreda.cat
X-WR-TIMEZONE:Europe/Madrid
DESCRIPTION:
URI:https://www.aiguafreda.cat/actualitat/agenda/inauguracio-del-nou-circuit-dorientacio-daiguafreda-coincidint-amb-el-world-orientering-day.html
CLASS:PUBLIC
END:VEVENT
END:VCALENDAR
