BEGIN:VCALENDAR
VERSION:2.0
CALSCALE:GREGORIAN
PRODID:-//Diputació de Barcelona//DibaCMS//EN
BEGIN:VEVENT
UID:6630
DTSTAMP:20260423T050426
DTSTART:20170521T090000
DTEND:20170521T000000
SUMMARY:Itinerari de natura descobrint plantes i herbes remeieres de la falda del Montseny
LOCATION:
METHOD:PUBLISH
X-WR-CALNAME:aiguafreda@aiguafreda.cat
X-WR-TIMEZONE:Europe/Madrid
DESCRIPTION:
URI:https://www.aiguafreda.cat/actualitat/agenda/itinerari-de-natura-descobrint-plantes-i-herbes-remeieres-de-la-falda-del-montseny.html
CLASS:PUBLIC
END:VEVENT
END:VCALENDAR
