BEGIN:VCALENDAR
VERSION:2.0
CALSCALE:GREGORIAN
PRODID:-//Diputació de Barcelona//DibaCMS//EN
BEGIN:VEVENT
UID:6628
DTSTAMP:20260423T052745
DTSTART:20170518T190000
DTEND:20170518T210000
SUMMARY:Xerrada sobre Herbes remeieres i plantes aromàtiques.
LOCATION:
METHOD:PUBLISH
X-WR-CALNAME:aiguafreda@aiguafreda.cat
X-WR-TIMEZONE:Europe/Madrid
DESCRIPTION:
URI:https://www.aiguafreda.cat/actualitat/agenda/xerrada-sobre-herbes-remeieres-i-plantes-aromatiques.html
CLASS:PUBLIC
END:VEVENT
END:VCALENDAR
