BEGIN:VCALENDAR
VERSION:2.0
CALSCALE:GREGORIAN
PRODID:-//Diputació de Barcelona//DibaCMS//EN
BEGIN:VEVENT
UID:6626
DTSTAMP:20260423T034313
DTSTART:20170514T120000
DTEND:20170514T180000
SUMMARY:Festa d'aniversari. 15 ansy Esplai Pica Pins
LOCATION:
METHOD:PUBLISH
X-WR-CALNAME:aiguafreda@aiguafreda.cat
X-WR-TIMEZONE:Europe/Madrid
DESCRIPTION:
URI:https://www.aiguafreda.cat/actualitat/agenda/festa-daniversari-15-ansy-esplai-pica-pins.html
CLASS:PUBLIC
END:VEVENT
END:VCALENDAR
