BEGIN:VCALENDAR
VERSION:2.0
CALSCALE:GREGORIAN
PRODID:-//Diputació de Barcelona//DibaCMS//EN
BEGIN:VEVENT
UID:6623
DTSTAMP:20260423T063320
DTSTART:20170512T000000
DTEND:20170512T000000
SUMMARY:Recital de guitarra romàntica del segle XIX
LOCATION:
METHOD:PUBLISH
X-WR-CALNAME:aiguafreda@aiguafreda.cat
X-WR-TIMEZONE:Europe/Madrid
DESCRIPTION:
URI:https://www.aiguafreda.cat/actualitat/agenda/recital-de-guitarra-romantica-del-segle-xix.html
CLASS:PUBLIC
END:VEVENT
END:VCALENDAR
