BEGIN:VCALENDAR
VERSION:2.0
CALSCALE:GREGORIAN
PRODID:-//Diputació de Barcelona//DibaCMS//EN
BEGIN:VEVENT
UID:6622
DTSTAMP:20260423T145603
DTSTART:20170505T190000
DTEND:20170505T000000
SUMMARY:Tertulia literària maig
LOCATION:
METHOD:PUBLISH
X-WR-CALNAME:aiguafreda@aiguafreda.cat
X-WR-TIMEZONE:Europe/Madrid
DESCRIPTION:
URI:https://www.aiguafreda.cat/actualitat/agenda/6622-tertulia-literaria-maig.html
CLASS:PUBLIC
END:VEVENT
END:VCALENDAR
