BEGIN:VCALENDAR
VERSION:2.0
CALSCALE:GREGORIAN
PRODID:-//Diputació de Barcelona//DibaCMS//EN
BEGIN:VEVENT
UID:6621
DTSTAMP:20260423T021641
DTSTART:20170423T180000
DTEND:20170423T200000
SUMMARY:Cobla Iluro de Mataró
LOCATION:
METHOD:PUBLISH
X-WR-CALNAME:aiguafreda@aiguafreda.cat
X-WR-TIMEZONE:Europe/Madrid
DESCRIPTION:
URI:https://www.aiguafreda.cat/actualitat/agenda/cobla-iluro-de-mataro.html
CLASS:PUBLIC
END:VEVENT
END:VCALENDAR
