BEGIN:VCALENDAR
VERSION:2.0
CALSCALE:GREGORIAN
PRODID:-//Diputació de Barcelona//DibaCMS//EN
BEGIN:VEVENT
UID:6619
DTSTAMP:20260423T052806
DTSTART:20170421T190000
DTEND:20170421T210000
SUMMARY:Carola Duran parlarà d’Àngel Guimerà: “Anys d’aprenentatge”, juntament amb la presentació del llibre “Correspondència entre Àngel Guimerà i Jaume Ramon i Vidales”.
LOCATION:
METHOD:PUBLISH
X-WR-CALNAME:aiguafreda@aiguafreda.cat
X-WR-TIMEZONE:Europe/Madrid
DESCRIPTION:
URI:https://www.aiguafreda.cat/actualitat/agenda/carola-duran-parlara-dangel-guimera-anys-daprenentatge-juntament-amb-la-presentacio-del-llibre-correspondencia-entre-angel-guimera-i-jaume-ramon-i-vidales.html
CLASS:PUBLIC
END:VEVENT
END:VCALENDAR
