BEGIN:VCALENDAR
VERSION:2.0
CALSCALE:GREGORIAN
PRODID:-//Diputació de Barcelona//DibaCMS//EN
BEGIN:VEVENT
UID:6618
DTSTAMP:20260423T075735
DTSTART:20170402T070000
DTEND:20170402T143000
SUMMARY:20a. Caminada d'Aiguafreda
LOCATION:
METHOD:PUBLISH
X-WR-CALNAME:aiguafreda@aiguafreda.cat
X-WR-TIMEZONE:Europe/Madrid
DESCRIPTION:
URI:https://www.aiguafreda.cat/actualitat/agenda/20a-caminada-daiguafreda.html
CLASS:PUBLIC
END:VEVENT
END:VCALENDAR
