BEGIN:VCALENDAR
VERSION:2.0
CALSCALE:GREGORIAN
PRODID:-//Diputació de Barcelona//DibaCMS//EN
BEGIN:VEVENT
UID:6615
DTSTAMP:20260423T062957
DTSTART:20170312T093000
DTEND:20170312T130000
SUMMARY:8a. Passejada commemorativa del Dia de la Dona
LOCATION:
METHOD:PUBLISH
X-WR-CALNAME:aiguafreda@aiguafreda.cat
X-WR-TIMEZONE:Europe/Madrid
DESCRIPTION:
URI:https://www.aiguafreda.cat/actualitat/agenda/8a-passejada-commemorativa-del-dia-de-la-dona.html
CLASS:PUBLIC
END:VEVENT
END:VCALENDAR
