BEGIN:VCALENDAR
VERSION:2.0
CALSCALE:GREGORIAN
PRODID:-//Diputació de Barcelona//DibaCMS//EN
BEGIN:VEVENT
UID:6613
DTSTAMP:20260423T083528
DTSTART:20170305T070000
DTEND:20170305T000000
SUMMARY:28a. Caminada de Sant Martí de Centelles
LOCATION:
METHOD:PUBLISH
X-WR-CALNAME:aiguafreda@aiguafreda.cat
X-WR-TIMEZONE:Europe/Madrid
DESCRIPTION:
URI:https://www.aiguafreda.cat/actualitat/agenda/28a-caminada-de-sant-marti-de-centelles.html
CLASS:PUBLIC
END:VEVENT
END:VCALENDAR
