BEGIN:VCALENDAR
VERSION:2.0
CALSCALE:GREGORIAN
PRODID:-//Diputació de Barcelona//DibaCMS//EN
BEGIN:VEVENT
UID:6605
DTSTAMP:20260423T035346
DTSTART:20170105T183000
DTEND:20170105T000000
SUMMARY:Cavalcada de Reis 2017
LOCATION:
METHOD:PUBLISH
X-WR-CALNAME:aiguafreda@aiguafreda.cat
X-WR-TIMEZONE:Europe/Madrid
DESCRIPTION:
URI:https://www.aiguafreda.cat/actualitat/agenda/cavalcada-de-reis-2017.html
CLASS:PUBLIC
END:VEVENT
END:VCALENDAR
