BEGIN:VCALENDAR
VERSION:2.0
CALSCALE:GREGORIAN
PRODID:-//Diputació de Barcelona//DibaCMS//EN
BEGIN:VEVENT
UID:6604
DTSTAMP:20260423T033352
DTSTART:20161231T003000
DTEND:20161231T000000
SUMMARY:Gran Revetlla de Cap d'Any
LOCATION:
METHOD:PUBLISH
X-WR-CALNAME:aiguafreda@aiguafreda.cat
X-WR-TIMEZONE:Europe/Madrid
DESCRIPTION:
URI:https://www.aiguafreda.cat/actualitat/agenda/6604-gran-revetlla-de-cap-dany.html
CLASS:PUBLIC
END:VEVENT
END:VCALENDAR
