BEGIN:VCALENDAR
VERSION:2.0
CALSCALE:GREGORIAN
PRODID:-//Diputació de Barcelona//DibaCMS//EN
BEGIN:VEVENT
UID:6603
DTSTAMP:20260423T033428
DTSTART:20161230T173000
DTEND:20161230T193000
SUMMARY:Visita del Carter Reial
LOCATION:
METHOD:PUBLISH
X-WR-CALNAME:aiguafreda@aiguafreda.cat
X-WR-TIMEZONE:Europe/Madrid
DESCRIPTION:
URI:https://www.aiguafreda.cat/actualitat/agenda/6603-visita-del-carter-reial.html
CLASS:PUBLIC
END:VEVENT
END:VCALENDAR
