BEGIN:VCALENDAR
VERSION:2.0
CALSCALE:GREGORIAN
PRODID:-//Diputació de Barcelona//DibaCMS//EN
BEGIN:VEVENT
UID:6602
DTSTAMP:20260423T063030
DTSTART:20161225T000000
DTEND:20161225T000000
SUMMARY:Quina de Nadal
LOCATION:
METHOD:PUBLISH
X-WR-CALNAME:aiguafreda@aiguafreda.cat
X-WR-TIMEZONE:Europe/Madrid
DESCRIPTION:
URI:https://www.aiguafreda.cat/actualitat/agenda/quina-de-nadal.html
CLASS:PUBLIC
END:VEVENT
END:VCALENDAR
