BEGIN:VCALENDAR
VERSION:2.0
CALSCALE:GREGORIAN
PRODID:-//Diputació de Barcelona//DibaCMS//EN
BEGIN:VEVENT
UID:6600
DTSTAMP:20260423T063131
DTSTART:20161218T173000
DTEND:20161218T000000
SUMMARY:Concert de Nadal a l’església
LOCATION:
METHOD:PUBLISH
X-WR-CALNAME:aiguafreda@aiguafreda.cat
X-WR-TIMEZONE:Europe/Madrid
DESCRIPTION:
URI:https://www.aiguafreda.cat/actualitat/agenda/6600-concert-de-nadal-a-lesglesia.html
CLASS:PUBLIC
END:VEVENT
END:VCALENDAR
