BEGIN:VCALENDAR
VERSION:2.0
CALSCALE:GREGORIAN
PRODID:-//Diputació de Barcelona//DibaCMS//EN
BEGIN:VEVENT
UID:6598
DTSTAMP:20260423T003615
DTSTART:20161217T000000
DTEND:20161217T000000
SUMMARY:Caga Tió
LOCATION:
METHOD:PUBLISH
X-WR-CALNAME:aiguafreda@aiguafreda.cat
X-WR-TIMEZONE:Europe/Madrid
DESCRIPTION:
URI:https://www.aiguafreda.cat/actualitat/agenda/6598-caga-tio.html
CLASS:PUBLIC
END:VEVENT
END:VCALENDAR
