BEGIN:VCALENDAR
VERSION:2.0
CALSCALE:GREGORIAN
PRODID:-//Diputació de Barcelona//DibaCMS//EN
BEGIN:VEVENT
UID:6595
DTSTAMP:20260423T033300
DTSTART:20161217T170000
DTEND:20161217T000000
SUMMARY:Inauguració del Pessebre del Casal Sant Jordi
LOCATION:
METHOD:PUBLISH
X-WR-CALNAME:aiguafreda@aiguafreda.cat
X-WR-TIMEZONE:Europe/Madrid
DESCRIPTION:
URI:https://www.aiguafreda.cat/actualitat/agenda/inauguracio-del-pessebre-del-casal-sant-jordi.html
CLASS:PUBLIC
END:VEVENT
END:VCALENDAR
