BEGIN:VCALENDAR
VERSION:2.0
CALSCALE:GREGORIAN
PRODID:-//Diputació de Barcelona//DibaCMS//EN
BEGIN:VEVENT
UID:6591
DTSTAMP:20260423T021802
DTSTART:20161210T090000
DTEND:20161210T000000
SUMMARY:Festa Major d'hivern - Dissabte 10 de desembre
LOCATION:
METHOD:PUBLISH
X-WR-CALNAME:aiguafreda@aiguafreda.cat
X-WR-TIMEZONE:Europe/Madrid
DESCRIPTION:
URI:https://www.aiguafreda.cat/actualitat/agenda/festa-major-dhivern-dissabte-10-de-desembre.html
CLASS:PUBLIC
END:VEVENT
END:VCALENDAR
