BEGIN:VCALENDAR
VERSION:2.0
CALSCALE:GREGORIAN
PRODID:-//Diputació de Barcelona//DibaCMS//EN
BEGIN:VEVENT
UID:6590
DTSTAMP:20260423T004535
DTSTART:20161209T190000
DTEND:20161209T000000
SUMMARY:Tertúlia literària - desembre
LOCATION:
METHOD:PUBLISH
X-WR-CALNAME:aiguafreda@aiguafreda.cat
X-WR-TIMEZONE:Europe/Madrid
DESCRIPTION:
URI:https://www.aiguafreda.cat/actualitat/agenda/6590-tertulia-literaria-desembre.html
CLASS:PUBLIC
END:VEVENT
END:VCALENDAR
