BEGIN:VCALENDAR
VERSION:2.0
CALSCALE:GREGORIAN
PRODID:-//Diputació de Barcelona//DibaCMS//EN
BEGIN:VEVENT
UID:6589
DTSTAMP:20260423T004344
DTSTART:20161209T160000
DTEND:20161209T000000
SUMMARY:Festa Major d'hivern - Divendres 9 de desembre
LOCATION:
METHOD:PUBLISH
X-WR-CALNAME:aiguafreda@aiguafreda.cat
X-WR-TIMEZONE:Europe/Madrid
DESCRIPTION:
URI:https://www.aiguafreda.cat/actualitat/agenda/festa-major-dhivern-divendres-9-de-desembre.html
CLASS:PUBLIC
END:VEVENT
END:VCALENDAR
