BEGIN:VCALENDAR
VERSION:2.0
CALSCALE:GREGORIAN
PRODID:-//Diputació de Barcelona//DibaCMS//EN
BEGIN:VEVENT
UID:6588
DTSTAMP:20260423T004716
DTSTART:20161208T173000
DTEND:20161208T000000
SUMMARY:Concert soldari
LOCATION:
METHOD:PUBLISH
X-WR-CALNAME:aiguafreda@aiguafreda.cat
X-WR-TIMEZONE:Europe/Madrid
DESCRIPTION:
URI:https://www.aiguafreda.cat/actualitat/agenda/concert-soldari.html
CLASS:PUBLIC
END:VEVENT
END:VCALENDAR
