BEGIN:VCALENDAR
VERSION:2.0
CALSCALE:GREGORIAN
PRODID:-//Diputació de Barcelona//DibaCMS//EN
BEGIN:VEVENT
UID:6587
DTSTAMP:20260422T214740
DTSTART:20161208T110000
DTEND:20161208T000000
SUMMARY:Festa Major d'hivern - Dijous 8 de desembre
LOCATION:
METHOD:PUBLISH
X-WR-CALNAME:aiguafreda@aiguafreda.cat
X-WR-TIMEZONE:Europe/Madrid
DESCRIPTION:
URI:https://www.aiguafreda.cat/actualitat/agenda/festa-major-dhivern-dijous-8-de-desembre.html
CLASS:PUBLIC
END:VEVENT
END:VCALENDAR
