BEGIN:VCALENDAR
VERSION:2.0
CALSCALE:GREGORIAN
PRODID:-//Diputació de Barcelona//DibaCMS//EN
BEGIN:VEVENT
UID:6584
DTSTAMP:20260422T225920
DTSTART:20161202T190000
DTEND:20161202T000000
SUMMARY:Presentació del llibre "Mil Camins"
LOCATION:
METHOD:PUBLISH
X-WR-CALNAME:aiguafreda@aiguafreda.cat
X-WR-TIMEZONE:Europe/Madrid
DESCRIPTION:
URI:https://www.aiguafreda.cat/actualitat/agenda/presentacio-del-llibre-mil-camins.html
CLASS:PUBLIC
END:VEVENT
END:VCALENDAR
