BEGIN:VCALENDAR
VERSION:2.0
CALSCALE:GREGORIAN
PRODID:-//Diputació de Barcelona//DibaCMS//EN
BEGIN:VEVENT
UID:6583
DTSTAMP:20260423T003713
DTSTART:20161127T000000
DTEND:20161127T000000
SUMMARY:Trobada de gegants d’Aiguafreda
LOCATION:
METHOD:PUBLISH
X-WR-CALNAME:aiguafreda@aiguafreda.cat
X-WR-TIMEZONE:Europe/Madrid
DESCRIPTION:
URI:https://www.aiguafreda.cat/actualitat/agenda/6583-trobada-de-gegants-daiguafreda.html
CLASS:PUBLIC
END:VEVENT
END:VCALENDAR
