BEGIN:VCALENDAR
VERSION:2.0
CALSCALE:GREGORIAN
PRODID:-//Diputació de Barcelona//DibaCMS//EN
BEGIN:VEVENT
UID:6581
DTSTAMP:20260424T112110
DTSTART:20161126T000000
DTEND:20161126T000000
SUMMARY:La Fira d’Artesans i de Nadal d’Aiguafreda, 10 anys.
LOCATION:
METHOD:PUBLISH
X-WR-CALNAME:aiguafreda@aiguafreda.cat
X-WR-TIMEZONE:Europe/Madrid
DESCRIPTION:
URI:https://www.aiguafreda.cat/actualitat/agenda/6581-la-fira-dartesans-i-de-nadal-daiguafreda-10-anys.html
CLASS:PUBLIC
END:VEVENT
END:VCALENDAR
