BEGIN:VCALENDAR
VERSION:2.0
CALSCALE:GREGORIAN
PRODID:-//Diputació de Barcelona//DibaCMS//EN
BEGIN:VEVENT
UID:6576
DTSTAMP:20260422T212838
DTSTART:20161029T170000
DTEND:20161029T000000
SUMMARY:Castanyada al Casal
LOCATION:
METHOD:PUBLISH
X-WR-CALNAME:aiguafreda@aiguafreda.cat
X-WR-TIMEZONE:Europe/Madrid
DESCRIPTION:
URI:https://www.aiguafreda.cat/actualitat/agenda/castanyada-al-casal.html
CLASS:PUBLIC
END:VEVENT
END:VCALENDAR
