BEGIN:VCALENDAR
VERSION:2.0
CALSCALE:GREGORIAN
PRODID:-//Diputació de Barcelona//DibaCMS//EN
BEGIN:VEVENT
UID:6575
DTSTAMP:20260422T183451
DTSTART:20161026T190000
DTEND:20161026T000000
SUMMARY:Conferència Formació en Valors a càrrec de l'Albert Altarriba (ex-preparador físic del FC Barcelona i New York Red Bull).
LOCATION:
METHOD:PUBLISH
X-WR-CALNAME:aiguafreda@aiguafreda.cat
X-WR-TIMEZONE:Europe/Madrid
DESCRIPTION:
URI:https://www.aiguafreda.cat/actualitat/agenda/6575-conferencia-formacio-en-valors-a-carrec-de-lalbert-altarriba-ex-preparador-fisic-del-fc-barcelona-i-new-york-red-bull.html
CLASS:PUBLIC
END:VEVENT
END:VCALENDAR
