BEGIN:VCALENDAR
VERSION:2.0
CALSCALE:GREGORIAN
PRODID:-//Diputació de Barcelona//DibaCMS//EN
BEGIN:VEVENT
UID:6566
DTSTAMP:20260423T021925
DTSTART:20161007T190000
DTEND:20161007T000000
SUMMARY:Inici Tertúlies literàries curs 2016 -2107
LOCATION:
METHOD:PUBLISH
X-WR-CALNAME:aiguafreda@aiguafreda.cat
X-WR-TIMEZONE:Europe/Madrid
DESCRIPTION:
URI:https://www.aiguafreda.cat/actualitat/agenda/inici-tertulies-literaries-curs-2016-2107.html
CLASS:PUBLIC
END:VEVENT
END:VCALENDAR
