BEGIN:VCALENDAR
VERSION:2.0
CALSCALE:GREGORIAN
PRODID:-//Diputació de Barcelona//DibaCMS//EN
BEGIN:VEVENT
UID:6565
DTSTAMP:20260422T224927
DTSTART:20161001T000000
DTEND:20161001T000000
SUMMARY:XIV Fira del Tastet
LOCATION:
METHOD:PUBLISH
X-WR-CALNAME:aiguafreda@aiguafreda.cat
X-WR-TIMEZONE:Europe/Madrid
DESCRIPTION:
URI:https://www.aiguafreda.cat/actualitat/agenda/xiv-fira-del-tastet.html
CLASS:PUBLIC
END:VEVENT
END:VCALENDAR
