BEGIN:VCALENDAR
VERSION:2.0
CALSCALE:GREGORIAN
PRODID:-//Diputació de Barcelona//DibaCMS//EN
BEGIN:VEVENT
UID:6564
DTSTAMP:20260423T015904
DTSTART:20160918T000000
DTEND:20160918T000000
SUMMARY:Aplec de la Santa Creu a Aiguafreda de Dalt
LOCATION:
METHOD:PUBLISH
X-WR-CALNAME:aiguafreda@aiguafreda.cat
X-WR-TIMEZONE:Europe/Madrid
DESCRIPTION:
URI:https://www.aiguafreda.cat/actualitat/agenda/6564-aplec-de-la-santa-creu-a-aiguafreda-de-dalt.html
CLASS:PUBLIC
END:VEVENT
END:VCALENDAR
