BEGIN:VCALENDAR
VERSION:2.0
CALSCALE:GREGORIAN
PRODID:-//Diputació de Barcelona//DibaCMS//EN
BEGIN:VEVENT
UID:6563
DTSTAMP:20260423T015148
DTSTART:20160918T080000
DTEND:20160918T000000
SUMMARY:Osona camina
LOCATION:
METHOD:PUBLISH
X-WR-CALNAME:aiguafreda@aiguafreda.cat
X-WR-TIMEZONE:Europe/Madrid
DESCRIPTION:
URI:https://www.aiguafreda.cat/actualitat/agenda/osona-camina.html
CLASS:PUBLIC
END:VEVENT
END:VCALENDAR
