BEGIN:VCALENDAR
VERSION:2.0
CALSCALE:GREGORIAN
PRODID:-//Diputació de Barcelona//DibaCMS//EN
BEGIN:VEVENT
UID:6562
DTSTAMP:20260422T211152
DTSTART:20160918T000000
DTEND:20160918T000000
SUMMARY:5a. edició d'Osona Camina
LOCATION:
METHOD:PUBLISH
X-WR-CALNAME:aiguafreda@aiguafreda.cat
X-WR-TIMEZONE:Europe/Madrid
DESCRIPTION:
URI:https://www.aiguafreda.cat/actualitat/agenda/5a-edicio-dosona-camina.html
CLASS:PUBLIC
END:VEVENT
END:VCALENDAR
