BEGIN:VCALENDAR
VERSION:2.0
CALSCALE:GREGORIAN
PRODID:-//Diputació de Barcelona//DibaCMS//EN
BEGIN:VEVENT
UID:6561
DTSTAMP:20260422T230530
DTSTART:20160917T000000
DTEND:20160917T000000
SUMMARY:37a. Matagalls - Montserrat
LOCATION:
METHOD:PUBLISH
X-WR-CALNAME:aiguafreda@aiguafreda.cat
X-WR-TIMEZONE:Europe/Madrid
DESCRIPTION:
URI:https://www.aiguafreda.cat/actualitat/agenda/37a-matagalls-montserrat.html
CLASS:PUBLIC
END:VEVENT
END:VCALENDAR
