BEGIN:VCALENDAR
VERSION:2.0
CALSCALE:GREGORIAN
PRODID:-//Diputació de Barcelona//DibaCMS//EN
BEGIN:VEVENT
UID:6560
DTSTAMP:20260422T171439
DTSTART:20160916T190000
DTEND:20160916T000000
SUMMARY:Presentació dels treballs d’Aiguafreda de Dalt (Jornades Europees del Patrimoni 2016)
LOCATION:
METHOD:PUBLISH
X-WR-CALNAME:aiguafreda@aiguafreda.cat
X-WR-TIMEZONE:Europe/Madrid
DESCRIPTION:
URI:https://www.aiguafreda.cat/actualitat/agenda/6560-presentacio-dels-treballs-daiguafreda-de-dalt-jornades-europees-del-patrimoni-2016.html
CLASS:PUBLIC
END:VEVENT
END:VCALENDAR
