BEGIN:VCALENDAR
VERSION:2.0
CALSCALE:GREGORIAN
PRODID:-//Diputació de Barcelona//DibaCMS//EN
BEGIN:VEVENT
UID:6556
DTSTAMP:20260422T170550
DTSTART:20160904T000000
DTEND:20160904T000000
SUMMARY:Concurs de dibuix i pintura
LOCATION:
METHOD:PUBLISH
X-WR-CALNAME:aiguafreda@aiguafreda.cat
X-WR-TIMEZONE:Europe/Madrid
DESCRIPTION:
URI:https://www.aiguafreda.cat/actualitat/agenda/6556-concurs-de-dibuix-i-pintura.html
CLASS:PUBLIC
END:VEVENT
END:VCALENDAR
