BEGIN:VCALENDAR
VERSION:2.0
CALSCALE:GREGORIAN
PRODID:-//Diputació de Barcelona//DibaCMS//EN
BEGIN:VEVENT
UID:6555
DTSTAMP:20260422T183833
DTSTART:20160829T000000
DTEND:20160829T000000
SUMMARY:Inici de la temporada 2016-17 de la Unió Esportiva Aiguafreda
LOCATION:
METHOD:PUBLISH
X-WR-CALNAME:aiguafreda@aiguafreda.cat
X-WR-TIMEZONE:Europe/Madrid
DESCRIPTION:
URI:https://www.aiguafreda.cat/actualitat/agenda/inici-de-la-temporada-2016-17-de-la-unio-esportiva-aiguafreda.html
CLASS:PUBLIC
END:VEVENT
END:VCALENDAR
