BEGIN:VCALENDAR
VERSION:2.0
CALSCALE:GREGORIAN
PRODID:-//Diputació de Barcelona//DibaCMS//EN
BEGIN:VEVENT
UID:6554
DTSTAMP:20260423T004513
DTSTART:20160817T220000
DTEND:20160817T000000
SUMMARY:Cinema a la fresca
LOCATION:
METHOD:PUBLISH
X-WR-CALNAME:aiguafreda@aiguafreda.cat
X-WR-TIMEZONE:Europe/Madrid
DESCRIPTION:
URI:https://www.aiguafreda.cat/actualitat/agenda/cinema-a-la-fresca.html
CLASS:PUBLIC
END:VEVENT
END:VCALENDAR
