BEGIN:VCALENDAR
VERSION:2.0
CALSCALE:GREGORIAN
PRODID:-//Diputació de Barcelona//DibaCMS//EN
BEGIN:VEVENT
UID:6553
DTSTAMP:20260422T231723
DTSTART:20160817T190000
DTEND:20160817T000000
SUMMARY:Tornaboda a les alzines d'Avencó
LOCATION:
METHOD:PUBLISH
X-WR-CALNAME:aiguafreda@aiguafreda.cat
X-WR-TIMEZONE:Europe/Madrid
DESCRIPTION:
URI:https://www.aiguafreda.cat/actualitat/agenda/6553-tornaboda-a-les-alzines-davenco.html
CLASS:PUBLIC
END:VEVENT
END:VCALENDAR
