BEGIN:VCALENDAR
VERSION:2.0
CALSCALE:GREGORIAN
PRODID:-//Diputació de Barcelona//DibaCMS//EN
BEGIN:VEVENT
UID:6552
DTSTAMP:20260423T020842
DTSTART:20160815T220000
DTEND:20160815T000000
SUMMARY:Ball de Festa Major 
LOCATION:
METHOD:PUBLISH
X-WR-CALNAME:aiguafreda@aiguafreda.cat
X-WR-TIMEZONE:Europe/Madrid
DESCRIPTION:
URI:https://www.aiguafreda.cat/actualitat/agenda/ball-de-festa-major-.html
CLASS:PUBLIC
END:VEVENT
END:VCALENDAR
