BEGIN:VCALENDAR
VERSION:2.0
CALSCALE:GREGORIAN
PRODID:-//Diputació de Barcelona//DibaCMS//EN
BEGIN:VEVENT
UID:6551
DTSTAMP:20260423T003908
DTSTART:20160815T180000
DTEND:20160815T000000
SUMMARY:Festa de l'escuma
LOCATION:
METHOD:PUBLISH
X-WR-CALNAME:aiguafreda@aiguafreda.cat
X-WR-TIMEZONE:Europe/Madrid
DESCRIPTION:
URI:https://www.aiguafreda.cat/actualitat/agenda/festa-de-lescuma.html
CLASS:PUBLIC
END:VEVENT
END:VCALENDAR
