BEGIN:VCALENDAR
VERSION:2.0
CALSCALE:GREGORIAN
PRODID:-//Diputació de Barcelona//DibaCMS//EN
BEGIN:VEVENT
UID:6550
DTSTAMP:20260423T004603
DTSTART:20160815T130000
DTEND:20160815T000000
SUMMARY:Vermut popular
LOCATION:
METHOD:PUBLISH
X-WR-CALNAME:aiguafreda@aiguafreda.cat
X-WR-TIMEZONE:Europe/Madrid
DESCRIPTION:
URI:https://www.aiguafreda.cat/actualitat/agenda/vermut-popular.html
CLASS:PUBLIC
END:VEVENT
END:VCALENDAR
