BEGIN:VCALENDAR
VERSION:2.0
CALSCALE:GREGORIAN
PRODID:-//Diputació de Barcelona//DibaCMS//EN
BEGIN:VEVENT
UID:6548
DTSTAMP:20260422T231754
DTSTART:20160814T220000
DTEND:20160814T000000
SUMMARY:Havaneres a la Plaça Major - Festa Major d'estiu
LOCATION:
METHOD:PUBLISH
X-WR-CALNAME:aiguafreda@aiguafreda.cat
X-WR-TIMEZONE:Europe/Madrid
DESCRIPTION:
URI:https://www.aiguafreda.cat/actualitat/agenda/havaneres-a-la-placa-major-festa-major-destiu.html
CLASS:PUBLIC
END:VEVENT
END:VCALENDAR
