BEGIN:VCALENDAR
VERSION:2.0
CALSCALE:GREGORIAN
PRODID:-//Diputació de Barcelona//DibaCMS//EN
BEGIN:VEVENT
UID:6547
DTSTAMP:20260422T230752
DTSTART:20160814T120000
DTEND:20160814T000000
SUMMARY:Espectacle infantil "Aquafesta"
LOCATION:
METHOD:PUBLISH
X-WR-CALNAME:aiguafreda@aiguafreda.cat
X-WR-TIMEZONE:Europe/Madrid
DESCRIPTION:
URI:https://www.aiguafreda.cat/actualitat/agenda/espectacle-infantil-aquafesta.html
CLASS:PUBLIC
END:VEVENT
END:VCALENDAR
