BEGIN:VCALENDAR
VERSION:2.0
CALSCALE:GREGORIAN
PRODID:-//Diputació de Barcelona//DibaCMS//EN
BEGIN:VEVENT
UID:6546
DTSTAMP:20260422T231903
DTSTART:20160813T190000
DTEND:20160817T235500
SUMMARY:Festa Major d'Estiu - 2016 -Tots els actes
LOCATION:
METHOD:PUBLISH
X-WR-CALNAME:aiguafreda@aiguafreda.cat
X-WR-TIMEZONE:Europe/Madrid
DESCRIPTION:
URI:https://www.aiguafreda.cat/actualitat/agenda/festa-major-destiu-2016-tots-els-actes.html
CLASS:PUBLIC
END:VEVENT
END:VCALENDAR
