BEGIN:VCALENDAR
VERSION:2.0
CALSCALE:GREGORIAN
PRODID:-//Diputació de Barcelona//DibaCMS//EN
BEGIN:VEVENT
UID:6544
DTSTAMP:20260423T021242
DTSTART:20160813T190000
DTEND:20160813T000000
SUMMARY:Taller de glosa
LOCATION:
METHOD:PUBLISH
X-WR-CALNAME:aiguafreda@aiguafreda.cat
X-WR-TIMEZONE:Europe/Madrid
DESCRIPTION:
URI:https://www.aiguafreda.cat/actualitat/agenda/taller-de-glosa.html
CLASS:PUBLIC
END:VEVENT
END:VCALENDAR
