BEGIN:VCALENDAR
VERSION:2.0
CALSCALE:GREGORIAN
PRODID:-//Diputació de Barcelona//DibaCMS//EN
BEGIN:VEVENT
UID:6543
DTSTAMP:20260423T022006
DTSTART:20160806T130000
DTEND:20160806T000000
SUMMARY:Arrossada a Sant Salvador
LOCATION:
METHOD:PUBLISH
X-WR-CALNAME:aiguafreda@aiguafreda.cat
X-WR-TIMEZONE:Europe/Madrid
DESCRIPTION:
URI:https://www.aiguafreda.cat/actualitat/agenda/6543-arrossada-a-sant-salvador.html
CLASS:PUBLIC
END:VEVENT
END:VCALENDAR
