BEGIN:VCALENDAR
VERSION:2.0
CALSCALE:GREGORIAN
PRODID:-//Diputació de Barcelona//DibaCMS//EN
BEGIN:VEVENT
UID:6541
DTSTAMP:20260422T212914
DTSTART:20160801T000000
DTEND:20160801T000000
SUMMARY:Vacances d'estiu a El Punt
LOCATION:
METHOD:PUBLISH
X-WR-CALNAME:aiguafreda@aiguafreda.cat
X-WR-TIMEZONE:Europe/Madrid
DESCRIPTION:
URI:https://www.aiguafreda.cat/actualitat/agenda/vacances-destiu-a-el-punt.html
CLASS:PUBLIC
END:VEVENT
END:VCALENDAR
